BEGIN:VCALENDAR
VERSION:2.0
PRODID:-//pretix//fachschaften.org_Tix//
BEGIN:VTIMEZONE
TZID:Europe/Berlin
BEGIN:STANDARD
DTSTART:20001029T040000
RRULE:FREQ=YEARLY;BYDAY=-1SU;BYMONTH=10
TZNAME:CET
TZOFFSETFROM:+0200
TZOFFSETTO:+0100
END:STANDARD
BEGIN:DAYLIGHT
DTSTART:20000326T030000
RRULE:FREQ=YEARLY;BYDAY=-1SU;BYMONTH=3
TZNAME:CEST
TZOFFSETFROM:+0100
TZOFFSETTO:+0200
END:DAYLIGHT
END:VTIMEZONE
BEGIN:VEVENT
UID:pretix-utr-fsrinfo-universe32-0@tickets.fsrinfo.de
DTSTART;TZID=Europe/Berlin:20260529T180000
DTEND;TZID=Europe/Berlin:20260530T060000
DESCRIPTION:Tickets: https://tickets.fsrinfo.de/universe32/\nVeranstalter: 
 FSR Info Uni Trier
DTSTAMP:20260421T121753Z
LOCATION:Campus II Kapelle\, (Raum K 101)
SUMMARY:Universe LAN XXXII
END:VEVENT
END:VCALENDAR
